BEGIN:VCALENDAR
PRODID:-//Session events Calendar//IBA//EN
CALSCALE:GREGORIAN
VERSION:2.0
BEGIN:VEVENT
DTSTAMP:20260421T205206Z
DTSTART:20260212T111000Z
DTEND:20260212T120000Z
SUMMARY:Staying Abreast of Laws and Regulations
DESCRIPTION:The region’s laws and regulations are rapidly changing. How d
 o in-house legal departments and law firms stay on top of relevant devel
 opments? How do Government\, law firms and information providers assist?
  We will discuss how to stay on top of legal developments. We will hear 
 from providers of knowledge\, users of information and others in the leg
 al sector cycle.\n
LOCATION:
UID:7c7b47e3-9da6-49bd-b79b-4409f0c90f4a
END:VEVENT
END:VCALENDAR
