BEGIN:VCALENDAR
PRODID:-//Session events Calendar//IBA//EN
CALSCALE:GREGORIAN
VERSION:2.0
BEGIN:VEVENT
DTSTAMP:20260421T205216Z
DTSTART:20260212T131500Z
DTEND:20260212T132000Z
SUMMARY:Closing remarks
DESCRIPTION:
LOCATION:
UID:2c8aa378-553e-4e77-8430-f7aacaad5822
END:VEVENT
END:VCALENDAR
