BEGIN:VCALENDAR
PRODID:-//Session events Calendar//IBA//EN
CALSCALE:GREGORIAN
VERSION:2.0
BEGIN:VEVENT
DTSTAMP:20260426T035350Z
DTSTART:20260309T123000Z
DTEND:20260309T131500Z
SUMMARY:First workshop sessions - Workshop 1: Managing conflicts of inter
 est
DESCRIPTION:This workshop will focus on how sponsors manage conflicts of 
 interest\, including allocations among multiple products\, affiliate tra
 nsactions\, and secondaries\, while also taking into account the applica
 ble regulatory regimes in which the funds operate.\n\nTopics to Include:
 \n• Role of counsel in guiding sponsors on transactional management invo
 lving the management of conflicts in continuation funds in light of ADIC
  v EMG (2025)\n
LOCATION:The Grand Ballroom
UID:43a76c1f-9027-4ebe-acca-abe07b742184
END:VEVENT
END:VCALENDAR
