BEGIN:VCALENDAR
PRODID:-//Session events Calendar//IBA//EN
CALSCALE:GREGORIAN
VERSION:2.0
BEGIN:VEVENT
DTSTAMP:20260426T035238Z
DTSTART:20260309T123000Z
DTEND:20260309T131500Z
SUMMARY:First workshop sessions - Workshop 3: Global regulatory trends an
 d developments
DESCRIPTION:This workshop will address the likely changes in regulation a
 nd regulatory priorities resulting from the U.S. election\, and regulato
 ry developments in other jurisdictions.
LOCATION:Empire Room
UID:7a696371-0a2e-42aa-9580-f70bfedaea11
END:VEVENT
END:VCALENDAR
