BEGIN:VCALENDAR
PRODID:-//Session events Calendar//IBA//EN
CALSCALE:GREGORIAN
VERSION:2.0
BEGIN:VEVENT
DTSTAMP:20260426T035237Z
DTSTART:20260309T143000Z
DTEND:20260309T151500Z
SUMMARY:Second workshop sessions - Workshop 4: Key trends in private fund
 s (anchors\, revenue shares\, other things people are seeing)
DESCRIPTION:This panel will be a deep dive into the latest trends in priv
 ate equity funds. Panelists will discuss current hot-button negotiation 
 points for GPs and LPs and where the market is moving on economic\, gove
 rnance and other fund terms.
LOCATION:The Grand Ballroom
UID:51506621-94ac-4a1a-bc2a-c217655a6ca5
END:VEVENT
END:VCALENDAR
