BEGIN:VCALENDAR
PRODID:-//Session events Calendar//IBA//EN
CALSCALE:GREGORIAN
VERSION:2.0
BEGIN:VEVENT
DTSTAMP:20260426T035350Z
DTSTART:20260309T154500Z
DTEND:20260309T163000Z
SUMMARY:Third workshop sessions - Workshop 7: Key developments in credit 
 funds
DESCRIPTION:The growth in credit funds has continued to accelerate\, with
  record amounts being raised by managers. This workshop will consider tr
 ends in fundraising and some of the unique issues affecting credit fund 
 managers\, including raising capital from insurance companies.\n\nTopics
  to Include:\n• Growth of evergreen credit\n• Growth of credit secondari
 es transactions\n• Non-traditional fundraising (retail\, high net worth 
 (e.g. bank platform feeders)\, rated note feeders).\n• Bank Partnerships
 \n
LOCATION:The Grand Ballroom
UID:6277440a-4a56-41a4-b513-851db06c6610
END:VEVENT
END:VCALENDAR
