BEGIN:VCALENDAR
PRODID:-//Session events Calendar//IBA//EN
CALSCALE:GREGORIAN
VERSION:2.0
BEGIN:VEVENT
DTSTAMP:20260425T215133Z
DTSTART:20260309T154500Z
DTEND:20260309T163000Z
SUMMARY:Third workshop sessions - Workshop 8: Trends in platform arrangem
 ents\, side letter negotiations\, syndications and co-investments
DESCRIPTION:Workshop will focus on (i) the flavours of multi-fund and umb
 rella arrangements that sponsors are using to attract capital in a chall
 enged environment and (ii) what is aggregated carry and how does it affe
 ct how professionals are paid.
LOCATION:Drawing Room
UID:5e396ab3-8eea-416c-bb5f-b2357b1036b9
END:VEVENT
END:VCALENDAR
