BEGIN:VCALENDAR
PRODID:-//Session events Calendar//IBA//EN
CALSCALE:GREGORIAN
VERSION:2.0
BEGIN:VEVENT
DTSTAMP:20260425T230142Z
DTSTART:20260309T154500Z
DTEND:20260309T163000Z
SUMMARY:Third workshop sessions - Workshop 9: Structured solutions/creati
 ve capital raising – RNF\, NAV\, CFO\, subline feeders
DESCRIPTION:This workshop will focus on the use of innovative structures 
 like rated note feeders\, NAV facilities\, collateralized fund obligatio
 ns and subline portfolio needs as fundraising and liquidity challenges i
 ntensify.\n\nTopics to Include: latest trends in:\n• Rated Note Feeders 
 (RNFs)\n• NAV loan structuring for new funds are pushing back\n• Collate
 ralised fund obligations (CFOs)\n• Subline feeder structures\n• Preferre
 d Equity as a fundraising bridge\n• Hybrid liquidity facilities\n
LOCATION:Empire Room
UID:14c2473f-bcc1-441f-8248-73d2d6a2f24c
END:VEVENT
END:VCALENDAR
