BEGIN:VCALENDAR
PRODID:-//Session events Calendar//IBA//EN
CALSCALE:GREGORIAN
VERSION:2.0
BEGIN:VEVENT
DTSTAMP:20260419T144722Z
DTSTART:20261006T123000Z
DTEND:20261006T134500Z
SUMMARY:Cross-border trade settlement systems and the WTO Appellate Body 
 crisis: where do we stand?
DESCRIPTION:Since 11 December 2019\, the Appellate Body has been unable t
 o deliver binding resolutions of trade disputes\, nor can it guarantee t
 he right to appellate review. New appointments to the WTO's Appellate Bo
 dy are blocked. Pending a resolution of the Appellate Body situation\, t
 he EU and other WTO members have established a multi-party interim appea
 l arbitration arrangement (MPIA)\, and other bilateral and multilateral 
 initiatives have been undertaken.\n\nOur roster of panellists will discu
 ss how participating WTO members can continue to benefit from two-step d
 ispute settlement systems\, as well as the reform of the WTO dispute set
 tlement mechanism.\n
LOCATION:
UID:54fa72c1-815d-4ee0-a313-1d648f404750
END:VEVENT
END:VCALENDAR
