BEGIN:VCALENDAR
PRODID:-//Session events Calendar//IBA//EN
CALSCALE:GREGORIAN
VERSION:2.0
BEGIN:VEVENT
DTSTAMP:20260426T035350Z
DTSTART:20260308T180000Z
DTEND:20260308T200000Z
SUMMARY:Registration
DESCRIPTION:
LOCATION:Landmark Room Foyer\, Mezzanine level
UID:0c9efa6a-f6f5-4b99-a264-d242d7458870
END:VEVENT
END:VCALENDAR
