BEGIN:VCALENDAR
PRODID:-//Session events Calendar//IBA//EN
CALSCALE:GREGORIAN
VERSION:2.0
BEGIN:VEVENT
DTSTAMP:20260426T035239Z
DTSTART:20260309T080000Z
DTEND:20260309T090000Z
SUMMARY:Welcome coffee/tea
DESCRIPTION:
LOCATION:The Marble Ballroom
UID:9d280505-062c-41d3-bd26-761d1d89b78d
END:VEVENT
END:VCALENDAR
