BEGIN:VCALENDAR
PRODID:-//Session events Calendar//IBA//EN
CALSCALE:GREGORIAN
VERSION:2.0
BEGIN:VEVENT
DTSTAMP:20260421T150400Z
DTSTART:20260601T063000Z
DTEND:20260601T150000Z
SUMMARY:Registration
DESCRIPTION:
LOCATION:
UID:37c5206e-13ee-4c6d-88f3-d6a0a6737bea
END:VEVENT
END:VCALENDAR
