BEGIN:VCALENDAR
PRODID:-//Session events Calendar//IBA//EN
CALSCALE:GREGORIAN
VERSION:2.0
BEGIN:VEVENT
DTSTAMP:20260421T150513Z
DTSTART:20260601T063000Z
DTEND:20260601T070000Z
SUMMARY:Welcome coffee/tea
DESCRIPTION:
LOCATION:
UID:ec6f3fe8-29da-45ee-bf65-f36c800683a0
END:VEVENT
END:VCALENDAR
