BEGIN:VCALENDAR
PRODID:-//Session events Calendar//IBA//EN
CALSCALE:GREGORIAN
VERSION:2.0
BEGIN:VEVENT
DTSTAMP:20260421T150513Z
DTSTART:20260601T070000Z
DTEND:20260601T070500Z
SUMMARY:Welcome remarks
DESCRIPTION:
LOCATION:
UID:9e4d4868-bc67-4364-9d4e-16cff95d2f24
END:VEVENT
END:VCALENDAR
