BEGIN:VCALENDAR
PRODID:-//Session events Calendar//IBA//EN
CALSCALE:GREGORIAN
VERSION:2.0
BEGIN:VEVENT
DTSTAMP:20260421T150400Z
DTSTART:20260601T070500Z
DTEND:20260601T073000Z
SUMMARY:Keynote address by Alexander Bornemann 
DESCRIPTION:
LOCATION:
UID:eca97636-f16b-4c97-9889-8453191618a7
END:VEVENT
END:VCALENDAR
