BEGIN:VCALENDAR
PRODID:-//Session events Calendar//IBA//EN
CALSCALE:GREGORIAN
VERSION:2.0
BEGIN:VEVENT
DTSTAMP:20260421T150401Z
DTSTART:20260601T073000Z
DTEND:20260601T090000Z
SUMMARY:Re engineering the automotive sector: using insolvency tools to r
 ight size\, restructure and future proof an industry in transition
DESCRIPTION:The automotive sector is facing major disruption from electri
 fication\, supply chain challenges\, cost pressures and shifting demand\
 , leading to rising insolvencies among suppliers. As a result\, restruct
 uring and insolvency tools are increasingly used not only to stabilise d
 istressed companies but also to facilitate sales\, operational downsizin
 g\, plant closures and strategic transformation.\n\nThis panel will offe
 r a practical\, cross-border perspective on how these frameworks are bei
 ng applied across the automotive value chain. From original equipment ma
 nufacturers (OEM) to suppliers\, this panel will highlight recent develo
 pments\, stakeholder dynamics\, distressed M&amp\;A and how different ju
 risdictions use legal tools to support consolidation and long-term susta
 inability.\n
LOCATION:
UID:9d6e3cec-266e-4d3f-b6dc-4c1eefa7dd95
END:VEVENT
END:VCALENDAR
