BEGIN:VCALENDAR
PRODID:-//Session events Calendar//IBA//EN
CALSCALE:GREGORIAN
VERSION:2.0
BEGIN:VEVENT
DTSTAMP:20260421T150514Z
DTSTART:20260601T090000Z
DTEND:20260601T093000Z
SUMMARY:Coffee/tea break
DESCRIPTION:
LOCATION:
UID:96c2b107-9ebd-49ee-863a-ba79898b260b
END:VEVENT
END:VCALENDAR
