BEGIN:VCALENDAR
PRODID:-//Session events Calendar//IBA//EN
CALSCALE:GREGORIAN
VERSION:2.0
BEGIN:VEVENT
DTSTAMP:20260421T163102Z
DTSTART:20260601T093000Z
DTEND:20260601T104500Z
SUMMARY:Deal or no deal: navigating the pitfalls\, pressure points and hi
 dden opportunities in going concern and asset sales
DESCRIPTION:In this panel you will hear how in financing insolvency proce
 edings the unique features of various jurisdictions impact the length of
  the sales process and structure of the deal. What obligations can be cl
 eansed through a sales process? How do employees fare through it all? Wh
 at about the credit bid rights of the elephant in the room: the secured 
 lender? This panel of experts will provide key perspectives on recent in
 teresting cases\, along with insights for the future of the sale of dist
 ressed companies in court proceedings.\n
LOCATION:
UID:9e184a07-f2cf-4977-8a0e-90fe4b06bec0
END:VEVENT
END:VCALENDAR
