BEGIN:VCALENDAR
PRODID:-//Session events Calendar//IBA//EN
CALSCALE:GREGORIAN
VERSION:2.0
BEGIN:VEVENT
DTSTAMP:20260421T152612Z
DTSTART:20260601T104500Z
DTEND:20260601T120000Z
SUMMARY:Lunch
DESCRIPTION:
LOCATION:
UID:26872f50-badb-4e2b-880a-df3f3ac4d29f
END:VEVENT
END:VCALENDAR
