BEGIN:VCALENDAR
PRODID:-//Session events Calendar//IBA//EN
CALSCALE:GREGORIAN
VERSION:2.0
BEGIN:VEVENT
DTSTAMP:20260421T152612Z
DTSTART:20260601T120000Z
DTEND:20260601T133000Z
SUMMARY:When giants fall: managing multinational defaults and choosing th
 e right cross jurisdictional restructuring path
DESCRIPTION:When a multinational enterprise faces financial distress\, th
 e path to restructuring is rarely straightforward. Competing legal frame
 works\, divergent creditor priorities and the sheer complexity of cross-
 border operations mean that stakeholders must navigate a landscape where
  the choice of jurisdiction can be as consequential as the restructuring
  itself. From schemes of arrangement and restructuring plans in England 
 to the Stabilisation and Restructuring Framework of Companies Act procee
 dings in Germany\, Chapter 11 filings in the US and emerging frameworks 
 in Singapore and Latin America. Each regime offers distinct advantages\,
  limitations and tactical considerations in an increasingly competitive 
 environment. Drawing on the diverse perspectives of restructuring lawyer
 s\, financial advisers and investment fund managers\, the panel will exp
 lore how practitioners assess and select among available regimes. This w
 ill include looking at the role of forum shopping in shaping outcomes\, 
 the practical challenges of coordinating different proceedings across mu
 ltiple jurisdictions and how creditors – including distressed debt inves
 tors – evaluate jurisdictional risk when deploying capital.\n
LOCATION:
UID:4d332040-f17a-414f-94bc-083757e519a3
END:VEVENT
END:VCALENDAR
