BEGIN:VCALENDAR
PRODID:-//Session events Calendar//IBA//EN
CALSCALE:GREGORIAN
VERSION:2.0
BEGIN:VEVENT
DTSTAMP:20260421T150421Z
DTSTART:20260601T133000Z
DTEND:20260601T140000Z
SUMMARY:Coffee/tea break
DESCRIPTION:
LOCATION:
UID:21c411e0-a274-4ebf-9caf-6584544d47ae
END:VEVENT
END:VCALENDAR
