BEGIN:VCALENDAR
PRODID:-//Session events Calendar//IBA//EN
CALSCALE:GREGORIAN
VERSION:2.0
BEGIN:VEVENT
DTSTAMP:20260421T163252Z
DTSTART:20260601T140000Z
DTEND:20260601T153000Z
SUMMARY:Chasing ghosts: fraud detection\, cross border asset recovery and
  the expanding toolkit for global insolvency practitioners
DESCRIPTION:This panel will examine how insolvency practitioners manage c
 ross-border recoveries where assets span multiple jurisdictions\, offsho
 re structures and digital platforms. Using a practical case study\, it w
 ill explore tools such as the EU Insolvency Regulation (Recast)\, chapte
 r 15 of the UNCITRAL Model Law\, avoidance actions and cross-border reco
 gnition mechanisms. The discussion will highlight jurisdictional challen
 ges\, enforcement strategies and key risks in complex\, multi-jurisdicti
 onal restructurings.\n
LOCATION:
UID:6e195feb-b3e5-4be5-991f-a388c4791dd2
END:VEVENT
END:VCALENDAR
