BEGIN:VCALENDAR
PRODID:-//Session events Calendar//IBA//EN
CALSCALE:GREGORIAN
VERSION:2.0
BEGIN:VEVENT
DTSTAMP:20260421T150421Z
DTSTART:20260602T063000Z
DTEND:20260602T140000Z
SUMMARY:Registration
DESCRIPTION:
LOCATION:
UID:aca321a0-ba89-4b31-9d1b-b3207768e76d
END:VEVENT
END:VCALENDAR
