BEGIN:VCALENDAR
PRODID:-//Session events Calendar//IBA//EN
CALSCALE:GREGORIAN
VERSION:2.0
BEGIN:VEVENT
DTSTAMP:20260421T152612Z
DTSTART:20260602T063000Z
DTEND:20260602T070000Z
SUMMARY:Welcome coffee/tea
DESCRIPTION:
LOCATION:
UID:b81d7dc5-0e0a-4167-a841-92403d54177c
END:VEVENT
END:VCALENDAR
