BEGIN:VCALENDAR
PRODID:-//Session events Calendar//IBA//EN
CALSCALE:GREGORIAN
VERSION:2.0
BEGIN:VEVENT
DTSTAMP:20260421T150421Z
DTSTART:20260602T070000Z
DTEND:20260602T083000Z
SUMMARY:Keynote address by Professor Wolfgang Ischinger 
DESCRIPTION:Former State Secretary in the German Ministry of Foreign Affa
 irs and former German Ambassador in Washington\, DC and London. A member
  of the European Council on Foreign Relations (ECFR)\, he holds active r
 oles in a number of committees\, including the German Council on Foreign
  Relations (DGAP)\, Atlantik-Brücke\, the Yalta European Strategy Group 
 (YES)\, the American Academy in Berlin and the Atlantic Council in Washi
 ngton\, DC.\n
LOCATION:
UID:e0bdb384-ec60-4fc2-bcf4-f20bcd5a95dd
END:VEVENT
END:VCALENDAR
