BEGIN:VCALENDAR
PRODID:-//Session events Calendar//IBA//EN
CALSCALE:GREGORIAN
VERSION:2.0
BEGIN:VEVENT
DTSTAMP:20260421T150421Z
DTSTART:20260602T083000Z
DTEND:20260602T090000Z
SUMMARY:Coffee/tea break
DESCRIPTION:
LOCATION:
UID:794755a0-ef39-4394-b03e-9cfdb7de3457
END:VEVENT
END:VCALENDAR
