BEGIN:VCALENDAR
PRODID:-//Session events Calendar//IBA//EN
CALSCALE:GREGORIAN
VERSION:2.0
BEGIN:VEVENT
DTSTAMP:20260421T150400Z
DTSTART:20260602T090000Z
DTEND:20260602T103000Z
SUMMARY:Distressed investing in Europe: who’s winning\, what’s changing a
 nd where opportunity is headed next
DESCRIPTION:This panel will explore how Europe’s distressed investing lan
 dscape is evolving amid economic pressure\, rate volatility and refinanc
 ing challenges. It will examine the growing role of alternative credit f
 unds\, hedge funds\, special situations investors and private equity\, a
 s well as the impact of differing national restructuring regimes and pos
 t-Brexit English law tools. The session will also highlight emerging opp
 ortunities and key legal and enforcement risks shaping the next phase of
  the distressed cycle.\n
LOCATION:
UID:c9cf6110-fa42-4add-b313-1c8bc6f96fee
END:VEVENT
END:VCALENDAR
