BEGIN:VCALENDAR
PRODID:-//Session events Calendar//IBA//EN
CALSCALE:GREGORIAN
VERSION:2.0
BEGIN:VEVENT
DTSTAMP:20260421T150421Z
DTSTART:20260602T103000Z
DTEND:20260602T120000Z
SUMMARY:Lunch
DESCRIPTION:
LOCATION:
UID:44786819-17ba-4818-8b8b-15814010f6e2
END:VEVENT
END:VCALENDAR
