BEGIN:VCALENDAR
PRODID:-//Session events Calendar//IBA//EN
CALSCALE:GREGORIAN
VERSION:2.0
BEGIN:VEVENT
DTSTAMP:20260421T152612Z
DTSTART:20260602T133000Z
DTEND:20260602T150000Z
SUMMARY:Can we settle this? Rethinking ADR as a strategic tool in modern 
 insolvency practice
DESCRIPTION:This panel discussion will explore the growing role of altern
 ative dispute resolution (ADR) mechanisms in insolvency proceedings\, hi
 ghlighting how tools such as mediation\, arbitration and negotiated sett
 lements can streamline complex disputes\, reduce litigation costs and pr
 eserve value for stakeholders. Panellists will examine the strategic use
  of ADR in addressing creditor claims\, preference and fraudulent transf
 er actions and multi-party conflicts\, as well as the evolving expectati
 ons of bankruptcy courts. The session will also consider practical consi
 derations\, recent trends and best practices for integrating ADR effecti
 vely within the framework of bankruptcy law.\n
LOCATION:
UID:9c91b60e-3cda-4c3a-b5e8-d9aea7c34bb9
END:VEVENT
END:VCALENDAR
