BEGIN:VCALENDAR
PRODID:-//Session events Calendar//IBA//EN
CALSCALE:GREGORIAN
VERSION:2.0
BEGIN:VEVENT
DTSTAMP:20260421T152612Z
DTSTART:20260602T130000Z
DTEND:20260602T133000Z
SUMMARY:Coffee/tea break
DESCRIPTION:
LOCATION:
UID:ca105260-b6e4-49ca-86b9-ca685df5d386
END:VEVENT
END:VCALENDAR
