BEGIN:VCALENDAR
PRODID:-//Session events Calendar//IBA//EN
CALSCALE:GREGORIAN
VERSION:2.0
BEGIN:VEVENT
DTSTAMP:20260421T150421Z
DTSTART:20260602T120000Z
DTEND:20260602T130000Z
SUMMARY:Let’s get practical: interactive session on real world scenarios 
 in practice. A fun and thought-provoking interactive session
DESCRIPTION:
LOCATION:
UID:1674b9b9-e1b5-4a6b-a568-7ec6dd463988
END:VEVENT
END:VCALENDAR
