BEGIN:VCALENDAR
PRODID:-//Session events Calendar//IBA//EN
CALSCALE:GREGORIAN
VERSION:2.0
BEGIN:VEVENT
DTSTAMP:20260421T150421Z
DTSTART:20260602T150000Z
DTEND:20260602T151500Z
SUMMARY:Closing remarks
DESCRIPTION:
LOCATION:
UID:36d21309-1657-4371-bf6f-3096c5be2ea6
END:VEVENT
END:VCALENDAR
