BEGIN:VCALENDAR
PRODID:-//Session events Calendar//IBA//EN
CALSCALE:GREGORIAN
VERSION:2.0
BEGIN:VEVENT
DTSTAMP:20260425T164223Z
DTSTART:20261006T091500Z
DTEND:20261006T103000Z
SUMMARY:What are clients really paying for? From hours to outcomes\, AI a
 nd (the end of) traditional billing
DESCRIPTION:As AI tools draft contracts\, predict case outcomes and analy
 se vast datasets in seconds\, clients are confronting a fundamental ques
 tion: what are they actually paying for? This session examines how techn
 ology is transforming the essence of legal practice – shifting from time
 -based billing to value-driven partnerships\, from individual expertise 
 to human–AI collaboration\, and from traditional service delivery to pla
 tform-based models. We’ll explore how forward-thinking firms are reimagi
 ning their business models\, how clients are demanding unprecedented tra
 nsparency and measurable outcomes\, and how a new generation of lawyers 
 is combining technological fluency with strategic insight. This is the n
 ew age of law: faster\, smarter and fundamentally different from what ca
 me before.
LOCATION:
UID:c9a092b1-314e-4e33-aedc-d2a4593b5d7c
END:VEVENT
END:VCALENDAR
