BEGIN:VCALENDAR
PRODID:-//Session events Calendar//IBA//EN
CALSCALE:GREGORIAN
VERSION:2.0
BEGIN:VEVENT
DTSTAMP:20260422T152934Z
DTSTART:20260423T060000Z
DTEND:20260423T143000Z
SUMMARY:Registration 
DESCRIPTION:
LOCATION:
UID:6c381d4a-62a5-4ff4-acea-201cd004e81b
END:VEVENT
END:VCALENDAR
