BEGIN:VCALENDAR
PRODID:-//Session events Calendar//IBA//EN
CALSCALE:GREGORIAN
VERSION:2.0
BEGIN:VEVENT
DTSTAMP:20260422T152908Z
DTSTART:20260423T060000Z
DTEND:20260423T064500Z
SUMMARY:Welcome tea/coffee
DESCRIPTION:
LOCATION:
UID:39845e60-549e-438d-9079-74addfa8f1d8
END:VEVENT
END:VCALENDAR
