BEGIN:VCALENDAR
PRODID:-//Session events Calendar//IBA//EN
CALSCALE:GREGORIAN
VERSION:2.0
BEGIN:VEVENT
DTSTAMP:20260422T152935Z
DTSTART:20260423T063000Z
DTEND:20260423T064500Z
SUMMARY:Welcome remarks
DESCRIPTION:
LOCATION:Ballroom (ABCD)
UID:8dbd9bf4-26bd-4822-b768-eac638f5e863
END:VEVENT
END:VCALENDAR
