BEGIN:VCALENDAR
PRODID:-//Session events Calendar//IBA//EN
CALSCALE:GREGORIAN
VERSION:2.0
BEGIN:VEVENT
DTSTAMP:20260422T152935Z
DTSTART:20260423T064500Z
DTEND:20260423T074500Z
SUMMARY:From transformation to resilience: the rule of Law\, democratic c
 ooperation\, and the future of Europe
DESCRIPTION:Mr Aleksander Kwaśniewski played an important role in the cou
 ntry’s integration into Western structures. A former student leader and 
 journalist\, he began his political career under communism in the Polish
  United Workers' Party. Following the democratic transition he co-founde
 d the Social Democracy of the Republic of Poland and co-organised the De
 mocratic Left Alliance.\n\nAs President\, Mr Kwaśniewski was instrumenta
 l in guiding Poland into NATO (1999) and the European Union (2004). He c
 hampioned the adoption of Poland’s current Constitution (1997) and suppo
 rted democratic reforms\, regional cooperation\, and European integratio
 n.\n
LOCATION:Ballroom (ABCD)
UID:8c2bc148-5873-40c3-8636-5e98fa08dc5a
END:VEVENT
END:VCALENDAR
