BEGIN:VCALENDAR
PRODID:-//Session events Calendar//IBA//EN
CALSCALE:GREGORIAN
VERSION:2.0
BEGIN:VEVENT
DTSTAMP:20260422T152935Z
DTSTART:20260423T090000Z
DTEND:20260423T094500Z
SUMMARY:Coffee/tea break
DESCRIPTION:
LOCATION:
UID:94fa86d0-fa89-499e-9a4a-d0004ecbcdbd
END:VEVENT
END:VCALENDAR
