BEGIN:VCALENDAR
PRODID:-//Session events Calendar//IBA//EN
CALSCALE:GREGORIAN
VERSION:2.0
BEGIN:VEVENT
DTSTAMP:20260422T152935Z
DTSTART:20260423T104500Z
DTEND:20260423T114500Z
SUMMARY:Lunch
DESCRIPTION:
LOCATION:
UID:4551dad9-114a-4d77-8cfe-bf2d3c5b9c52
END:VEVENT
END:VCALENDAR
