BEGIN:VCALENDAR
PRODID:-//Session events Calendar//IBA//EN
CALSCALE:GREGORIAN
VERSION:2.0
BEGIN:VEVENT
DTSTAMP:20260422T152935Z
DTSTART:20260423T130000Z
DTEND:20260423T134500Z
SUMMARY:Coffee/tea break
DESCRIPTION:
LOCATION:
UID:7f1252f7-3231-4cb4-a2dc-9416fc374d78
END:VEVENT
END:VCALENDAR
