BEGIN:VCALENDAR
PRODID:-//Session events Calendar//IBA//EN
CALSCALE:GREGORIAN
VERSION:2.0
BEGIN:VEVENT
DTSTAMP:20260422T152935Z
DTSTART:20260423T134500Z
DTEND:20260423T143000Z
SUMMARY:Scio me nihil scire. While AI has all the answers\, we need Socra
 tes even more 
DESCRIPTION:In an era where Artificial Intelligence is not just a tool bu
 t a foundational shift in the global economy\, the Socratic paradox—know
 ing that we know nothing—becomes the ultimate strategic advantage for th
 e modern legal leader. For senior employment lawyers and law firm partne
 rs\, the AI revolution of 2026 demands more than just technical adaptati
 on\; it requires a fundamental unlearning of the traditional legal servi
 ce model. This session will explore the dual impact of AI on the future 
 of work. On a micro level\, we examine how AI is redefining the “human” 
 element of the legal profession. As algorithms take over the heavy lifti
 ng of data and precedent\, the value of a senior partner shifts from inf
 ormation processing to high-stakes ethical judgment\, strategic navigati
 on\, and the management of a newly hybridised workforce. On a macro leve
 l\, this transformation is being spearheaded in one of Europe’s most vib
 rant economic landscapes. Drawing on her leadership at Google Cloud Magd
 a Dziewguć will highlight why Poland has emerged as a premier European h
 ub for technological competence and digital transformation.\n
LOCATION:Ballroom (ABCD)
UID:488fddb1-4764-4c3e-963e-b7e246f8a8ee
END:VEVENT
END:VCALENDAR
