BEGIN:VCALENDAR
PRODID:-//Session events Calendar//IBA//EN
CALSCALE:GREGORIAN
VERSION:2.0
BEGIN:VEVENT
DTSTAMP:20260422T155907Z
DTSTART:20260424T084500Z
DTEND:20260424T093000Z
SUMMARY:Coffee/tea break
DESCRIPTION:
LOCATION:
UID:b8e76e73-7e2a-4796-8a35-2939f0cdc5cc
END:VEVENT
END:VCALENDAR
