BEGIN:VCALENDAR
PRODID:-//Session events Calendar//IBA//EN
CALSCALE:GREGORIAN
VERSION:2.0
BEGIN:VEVENT
DTSTAMP:20260422T154817Z
DTSTART:20260424T104500Z
DTEND:20260424T114500Z
SUMMARY:Lunch
DESCRIPTION:
LOCATION:
UID:00412592-68ff-44f1-ad65-eddffbddae3c
END:VEVENT
END:VCALENDAR
