BEGIN:VCALENDAR
PRODID:-//Session events Calendar//IBA//EN
CALSCALE:GREGORIAN
VERSION:2.0
BEGIN:VEVENT
DTSTAMP:20260422T152935Z
DTSTART:20260424T063000Z
DTEND:20260424T070000Z
SUMMARY:Welcome tea/coffee
DESCRIPTION:
LOCATION:
UID:8e69c46f-f76b-4b72-af01-173d422c2007
END:VEVENT
END:VCALENDAR
