BEGIN:VCALENDAR
PRODID:-//Session events Calendar//IBA//EN
CALSCALE:GREGORIAN
VERSION:2.0
BEGIN:VEVENT
DTSTAMP:20260421T203157Z
DTSTART:20260326T081500Z
DTEND:20260326T082500Z
SUMMARY:Program overview and framing remarks
DESCRIPTION:
LOCATION:
UID:f2d0f21e-b1fe-4a68-b4c3-52fd9b874ee6
END:VEVENT
END:VCALENDAR
