BEGIN:VCALENDAR
PRODID:-//Session events Calendar//IBA//EN
CALSCALE:GREGORIAN
VERSION:2.0
BEGIN:VEVENT
DTSTAMP:20260422T143320Z
DTSTART:20260416T114500Z
DTEND:20260416T120000Z
SUMMARY:Introduction of the International Sales Transaction Guide
DESCRIPTION:
LOCATION:
UID:220597e0-f08e-4753-a06f-693375e93aeb
END:VEVENT
END:VCALENDAR
