BEGIN:VCALENDAR
PRODID:-//Session events Calendar//IBA//EN
CALSCALE:GREGORIAN
VERSION:2.0
BEGIN:VEVENT
DTSTAMP:20260422T170525Z
DTSTART:20260424T121500Z
DTEND:20260424T124500Z
SUMMARY:Will robots replace us
DESCRIPTION:Listed among the Top 22 Robotic Process Automation influencer
 s globally by Business Analysts Hub. Harvard Business School alumnus. Ex
 perienced leader with a strong background in the computer software indus
 try. Regional Vice President at UiPath\, developing AI technology that m
 irrors human intelligence with increasing sophistication\, transforming 
 how businesses operate\, innovate\, and compete.\n
LOCATION:Ballroom (ABCD)
UID:8d94e7e4-33c0-4f0f-a6dc-e08db3984fce
END:VEVENT
END:VCALENDAR
