BEGIN:VCALENDAR
PRODID:-//Session events Calendar//IBA//EN
CALSCALE:GREGORIAN
VERSION:2.0
BEGIN:VEVENT
DTSTAMP:20260425T182951Z
DTSTART:20260709T090000Z
DTEND:20260709T093000Z
SUMMARY:Opening Remarks
DESCRIPTION:
LOCATION:
UID:cd5f1ad2-cf30-4375-a555-8000bb6579c4
END:VEVENT
END:VCALENDAR
