BEGIN:VCALENDAR
PRODID:-//Session events Calendar//IBA//EN
CALSCALE:GREGORIAN
VERSION:2.0
BEGIN:VEVENT
DTSTAMP:20260425T213222Z
DTSTART:20260709T093000Z
DTEND:20260709T100000Z
SUMMARY:Introductory remarks
DESCRIPTION:
LOCATION:
UID:4f443f99-941c-43bd-b839-9d4114bc91e2
END:VEVENT
END:VCALENDAR
