BEGIN:VCALENDAR
PRODID:-//Session events Calendar//IBA//EN
CALSCALE:GREGORIAN
VERSION:2.0
BEGIN:VEVENT
DTSTAMP:20260425T213222Z
DTSTART:20260709T110000Z
DTEND:20260709T121500Z
SUMMARY:The true role of an independent judiciary\; a comparison across t
 he jurisdictions
DESCRIPTION:
LOCATION:
UID:a01a6954-3f9e-4d26-a4d6-f76383c5b6b9
END:VEVENT
END:VCALENDAR
